BEGIN:VCALENDAR
VERSION:2.0
PRODID:-//RSVPA - ECPv4.6.23//NONSGML v1.0//EN
CALSCALE:GREGORIAN
METHOD:PUBLISH
X-WR-CALNAME:RSVPA
X-ORIGINAL-URL:https://rsvpa.witf.org
X-WR-CALDESC:Events for RSVPA
BEGIN:VEVENT
DTSTART;TZID=UTC-5:20210405T190000
DTEND;TZID=UTC-5:20210405T201500
DTSTAMP:20210519T222543
CREATED:20210309T164154Z
LAST-MODIFIED:20210309T164154Z
UID:82310-1617649200-1617653700@rsvpa.witf.org
SUMMARY:Virtual Spring Lecture Series:  DIY Eco-Landscaping
DESCRIPTION:Free Seminars Series presented by Penn State Master Gardeners and Watershed Stewards\, C3 (Community Conservation Committee) and Alliance for the Chesapeake Bay.  For Details and Registration\, please visit c3conserve.com/upcoming-events.   \nAll events will be presented at 7-8:15 pm.  \nMarch 24 Creating Habitat for Butterflies\nApril 28 Functional Landscape Design\nMay 26 Replacing the Dirty Dozen\nJune 23 Stormwater – The Issue and Solutions for your Home \n
URL:https://rsvpa.witf.org/event/virtual-spring-lecture-series-diy-eco-landscaping/2021-04-05/
CATEGORIES:Lectures & Seminars
ATTACH;FMTTYPE=image/jpeg:https://rsvpa.witf.org/wp-content/uploads/2021/03/IMG_0014-001.JPG1_.jpg
END:VEVENT
END:VCALENDAR