BEGIN:VCALENDAR
VERSION:2.0
PRODID:-//RSVPA - ECPv4.6.23//NONSGML v1.0//EN
CALSCALE:GREGORIAN
METHOD:PUBLISH
X-WR-CALNAME:RSVPA
X-ORIGINAL-URL:https://rsvpa.witf.org
X-WR-CALDESC:Events for RSVPA
BEGIN:VEVENT
DTSTART;TZID=UTC-5:20210412T100000
DTEND;TZID=UTC-5:20210412T170000
DTSTAMP:20210529T130519
CREATED:20210318T165743Z
LAST-MODIFIED:20210318T165743Z
UID:82507-1618221600-1618246800@rsvpa.witf.org
SUMMARY:Vintage & Antiques\, Furniture\, Glassware\, China\, Clocks and Personal Property
DESCRIPTION:Public Auction Live In-House / Stream Live Online\nVintage & Antiques\, Furniture\, Glassware\, China\, Clocks and Personal Property\nWill sell\, for Father Joseph C. Carolin Estate\, for Robert Beldyk Estate and others\, at Gateway Gallery Auction\, located at 643 Kriner Road\, Chambersburg on:\nMonday – April 12 at 10:00 AM\nFURNITURE: Love seat; leather recliners; curios; coffee tables; complete beds; Victorian arm chair; Duncan Phyfe style stand; Duncan Phyfe style chairs; breakfront cabinet; night stands; small Duncan Phyfe stand; Victorian rocker; pine high chest; mahogany chest on chest; blanket chests; porcelain top table; Temple Stuart hutch; set (6) chairs; mahogany bedroom suite; Draftsman’s desk; modern s-roll desk; cedar closet; glass/metal wall table; cherry wall stand w/mirror; occasional chairs; dining table w/(4) chairs; server; lift chair; washstand; PA House desk/bookcase; school desk; Mid-Century style cabinets and more.\nVINTAGE/DÉCOR/COLLECTIBLES: Vintage typewriters; vintage stuffed dolls (Pinocchio\, etc.); Stangl birds; children’s books; cameras; (2) lg. nutcrackers; Kachinas; lead crystal; Roseville set; Depression glass; decorative figurines; cup/saucer sets; whimsy crock; Pyrex; knives; crockery; wall and mantel clocks; toys from various periods; acoustic guitars; costume jewelry and much more\nPERSONAL PROPERTY: John Deere 110 tractor/mower w/leaf wagon; assorted garden/hand tools; folding trussels; sweepers; microwave; office supplies; Craftsman work bench; deer cart; ladders; garden statuary; floor fan; camp items; computer desk; bottles and lots of other useful items.\nAUCTIONEER’S NOTE: Will begin with outside items at 10 AM followed by Back Gallery. Main Gallery cataloged items begin at 1:30 PM with both in-house and live stream bidding available through our website. Furniture sold at 5 PM.\nPreview Sunday\, April 11 from 1-3 PM and 8 AM Sale Day\nTERMS: Cash\, check\, Visa/MC/Discover accepted. 13% buyer’s premium discounted 3% for cash or approved check. Statements made day of sale take precedence.\nGATEWAY GALLERY AUCTION INC\nOur Service is the Difference\nPhone (717) 263-6512\, (800) 315-3265\, AY002190\, AH002001\nwww.GatewayAuction.com\nAuctioneer Heather Kohler AU005651\nAuctioneer John F. Kohler\, Jr. AU000507L \n
URL:https://rsvpa.witf.org/event/vintage-antiques-furniture-glassware-china-clocks-and-personal-property-2/
LOCATION:Gateway Gallery Auction\, 643 Kriner Rd.\, Chambersburg\, 17202
GEO:39.9051665;-77.6557421
X-APPLE-STRUCTURED-LOCATION;VALUE=URI;X-ADDRESS=Gateway Gallery Auction 643 Kriner Rd. Chambersburg 17202;X-APPLE-RADIUS=500;X-TITLE=643 Kriner Rd.:geo:-77.6557421,39.9051665
CATEGORIES:Arts & Exhibits,Kids & Family Fun,Lectures & Seminars
ORGANIZER;CN="Gateway%20Gallery%20Auction":MAILTO:info@gatewayauction.com
END:VEVENT
END:VCALENDAR