BEGIN:VCALENDAR
VERSION:2.0
PRODID:-//RSVPA - ECPv4.6.23//NONSGML v1.0//EN
CALSCALE:GREGORIAN
METHOD:PUBLISH
X-WR-CALNAME:RSVPA
X-ORIGINAL-URL:https://rsvpa.witf.org
X-WR-CALDESC:Events for RSVPA
BEGIN:VEVENT
DTSTART;TZID=UTC-5:20210406T170000
DTEND;TZID=UTC-5:20210406T190000
DTSTAMP:20210520T031203
CREATED:20210413T202726Z
LAST-MODIFIED:20210413T202726Z
UID:83042-1617728400-1617735600@rsvpa.witf.org
SUMMARY:Summer Camp Registration Night
DESCRIPTION:Registration nights for Summer Camp for both downtown and Penn Manor locations will take place at our Lime Street location. \nYWCA Lancaster Summer Camp offers care for children from the end of the school year until it begins again in the Fall. Day Camp is offered at sites throughout Lancaster County for students in the Penn Manor School District and School District of Lancaster. Campers receive a t-shirt celebrating the summer’s theme and a yearbook at the end of the summer. \n
URL:https://rsvpa.witf.org/event/summer-camp-registration-night/2021-04-06/
LOCATION:YWCA Lancaster\, 110 N. Lime Street\, Lancaster\, 17602
CATEGORIES:Kids & Family Fun
ATTACH;FMTTYPE=image/jpeg:https://rsvpa.witf.org/wp-content/uploads/2021/04/YWCA-Lancaster-Logo.jpg
END:VEVENT
END:VCALENDAR