BEGIN:VCALENDAR
VERSION:2.0
PRODID:-//RSVPA - ECPv4.6.23//NONSGML v1.0//EN
CALSCALE:GREGORIAN
METHOD:PUBLISH
X-WR-CALNAME:RSVPA
X-ORIGINAL-URL:https://rsvpa.witf.org
X-WR-CALDESC:Events for RSVPA
BEGIN:VEVENT
DTSTART;TZID=UTC-5:20210307T190000
DTEND;TZID=UTC-5:20210307T210000
DTSTAMP:20210706T063753
CREATED:20210125T130828Z
LAST-MODIFIED:20210125T130828Z
UID:80603-1615143600-1615150800@rsvpa.witf.org
SUMMARY:Snow White and the Seven Dwarfs as Performed by TJ Barker’s Troupe of Theatricals presented by Messiah University Department of Theatre and Dance
DESCRIPTION:Written by Ernie Nolan\nDirected by Daniel Inouye \nProfessor TJ Barker and his troupe of traveling theatricals have just arrived at the theatre to begin a performance of their spectacular production of Snow White and the Seven Dwarfs when they realize something is amiss. Not only has the orchestra not arrived\, but also five of the hilarious O’Hanlon brothers have been stricken with food poisoning. Now only two actors are left to play the dwarfs! Can Professor Barker rally his troupe and prove that the show can go on? Follow their madcap theatrical adventure as they take turns acting\, puppeteering and becoming the orchestra while performing one of the most beloved fairy tales of all time. Through ingenuity and will power\, they prove in the end that anything can happen once upon a time. \nPoorman Black Box Theater\nMar. 4-6 & 8-10 @ 7:00pm\nMar. 7 @ 3:00pm \nFree\, presented via live-stream at www.messiah.edu/SOTAlivestream \n*Please note that all performance details are subject to change\, pending changes to our on-campus circumstances.  Please see arts.messiah.edu for updates. \n
URL:https://rsvpa.witf.org/event/snow-white-and-the-seven-dwarfs-as-performed-by-tj-barkers-troupe-of-theatricals-presented-by-messiah-university-department-of-theatre-and-dance/2021-03-07/
LOCATION:Messiah University\, Climenhaga Building\, Poorman Black Box Theater\, One University Avenue\, Mechanicsburg\, PA\, 17055\, United States
CATEGORIES:Concerts & Performances
ATTACH;FMTTYPE=image/jpeg:https://rsvpa.witf.org/wp-content/uploads/2020/12/Puppet-sax.jpg
ORGANIZER;CN="Messiah%20University%20Department%20of%20Theatre%20and%20Dance":MAILTO:schoolofthearts@messiah.edu
END:VEVENT
END:VCALENDAR