BEGIN:VCALENDAR
VERSION:2.0
PRODID:-//RSVPA - ECPv4.6.23//NONSGML v1.0//EN
CALSCALE:GREGORIAN
METHOD:PUBLISH
X-WR-CALNAME:RSVPA
X-ORIGINAL-URL:https://rsvpa.witf.org
X-WR-CALDESC:Events for RSVPA
BEGIN:VEVENT
DTSTART;TZID=UTC-5:20210417T120000
DTEND;TZID=UTC-5:20210417T190000
DTSTAMP:20210603T100028
CREATED:20210413T202923Z
LAST-MODIFIED:20210413T202923Z
UID:83132-1618660800-1618686000@rsvpa.witf.org
SUMMARY:Scatter Terrain
DESCRIPTION:“Scatter Terrain\,” is a new exhibition at Ejecta Projects\, an art gallery in downtown Carlisle\, featuring videos\, sculptures\, paintings\, drawings\, photographs\, and prints that offer new\, diverse approaches to the idea of landscape.  In response to the pandemic\, the curators of Ejecta Projects held an open call for artists and sought to create an installation populated with pockets of “terrain” – secluded or strange topographies\, architectural gestures\, intimate domestic corners – with the simple goal of transporting viewers to new places. During this extended time of Covid-induced seclusion at home\, “Scatter Terrain” offers imagined adventure and escape when real travel has been impossible.  \nThe exhibition runs through May 29 and is open Thursdays and Fridays\, 3-7pm and Saturdays\, 12-7. \nRepresented artists include: Avye Alexandres\, Chad Andrews\, Sarah Aziz\, Jackie Brown\, Stefani Byrd\, Locus Xiaotong Chen\, Sarah Crofts\, Jason Cytaki\, Jon Duff\, Stephen Grossman\, Stacy Isenbarger\, Leekyung Kang\, Heather Leier\, Julia Matejcek\, Ryan Sarah Murphy\, Sarah Nance\, Ken Reker\, Dan Rule\, Samantha Sanders\, Stephanie Serpick\, Chloe Wilwerding \n
URL:https://rsvpa.witf.org/event/scatter-terrain-2/2021-04-17/
LOCATION:Ejecta Projects\, 136 W. High St\, Carlisle\, PA\, 17013\, United States
GEO:40.2016061;-77.1926605
X-APPLE-STRUCTURED-LOCATION;VALUE=URI;X-ADDRESS=Ejecta Projects 136 W. High St Carlisle PA 17013 United States;X-APPLE-RADIUS=500;X-TITLE=136 W. High St:geo:-77.1926605,40.2016061
ATTACH;FMTTYPE=image/jpeg:https://rsvpa.witf.org/wp-content/uploads/2021/04/Scatter-Terrain.jpeg
ORGANIZER;CN="Ejecta%20Projects":MAILTO:se8679@yahoo.com
END:VEVENT
END:VCALENDAR