BEGIN:VCALENDAR
VERSION:2.0
PRODID:-//RSVPA - ECPv4.6.23//NONSGML v1.0//EN
CALSCALE:GREGORIAN
METHOD:PUBLISH
X-WR-CALNAME:RSVPA
X-ORIGINAL-URL:https://rsvpa.witf.org
X-WR-CALDESC:Events for RSVPA
BEGIN:VEVENT
DTSTART;TZID=UTC-5:20210402T100000
DTEND;TZID=UTC-5:20210402T160000
DTSTAMP:20210518T130939
CREATED:20210412T180929Z
LAST-MODIFIED:20210412T180929Z
UID:82831-1617357600-1617379200@rsvpa.witf.org
SUMMARY:Outdoor Sidewalk Sale
DESCRIPTION:Join us every Friday and Saturday for our weekly Outdoor Sidewalk Sale! We’ll be open along 3rd and Verbeke from 10am – 4pm every Saturday through February. Featuring tables and carts of new releases\, bargain books\, and more\, we’ll have *thousands* of books available for your browsing fix. \nThanks for your encouragement\, kindness\, and support! \n
URL:https://rsvpa.witf.org/event/outdoor-sidewalk-sale-11/2021-04-02/
LOCATION:midtown scholar bookstre
CATEGORIES:Arts & Exhibits
ATTACH;FMTTYPE=image/jpeg:https://rsvpa.witf.org/wp-content/uploads/2021/03/122010124_10157553169337724_9154223274205571182_n.jpg
END:VEVENT
END:VCALENDAR