BEGIN:VCALENDAR
VERSION:2.0
PRODID:-//RSVPA - ECPv4.6.23//NONSGML v1.0//EN
CALSCALE:GREGORIAN
METHOD:PUBLISH
X-WR-CALNAME:RSVPA
X-ORIGINAL-URL:https://rsvpa.witf.org
X-WR-CALDESC:Events for RSVPA
BEGIN:VEVENT
DTSTART;TZID=UTC-5:20210903T173000
DTEND;TZID=UTC-5:20210903T173000
DTSTAMP:20211021T212801
CREATED:20210823T123538Z
LAST-MODIFIED:20210823T123538Z
UID:87645-1630690200-1630690200@rsvpa.witf.org
SUMMARY:NAMI-National Alliance on Mental Illness -Family to Family Class
DESCRIPTION:NAMI Family-to-Family is a free\, 8-session educational program for family\, significant others and friends of people with mental health conditions. It is a designated evidenced-based program. This means that research shows that the program significantly improves the coping and problem-solving abilities of the people closest to a person with a mental health condition \nLocation-Giant Food Store -3301 E Trindle Road\, Camp Hill\, Pa 17011. The Community Center – located on the 2nd floor. You can take the elevator or the stairs. \nWe will provide snacks for the first class and then have a sign-up sheet as we know most will be coming right from work.  \nStarts -Friday\, September 3\, 2021\, and ends October 22\, 2021. This is an educational class and the commitment to attend all classes would be suggested.  \n
URL:https://rsvpa.witf.org/event/nami-national-alliance-on-mental-illness-family-to-family-class/2021-09-03/
END:VEVENT
END:VCALENDAR