BEGIN:VCALENDAR
VERSION:2.0
PRODID:-//RSVPA - ECPv4.6.23//NONSGML v1.0//EN
CALSCALE:GREGORIAN
METHOD:PUBLISH
X-WR-CALNAME:RSVPA
X-ORIGINAL-URL:https://rsvpa.witf.org
X-WR-CALDESC:Events for RSVPA
BEGIN:VEVENT
DTSTART;TZID=UTC-5:20210902T183000
DTEND;TZID=UTC-5:20210902T183000
DTSTAMP:20211020T025756
CREATED:20200211T174738Z
LAST-MODIFIED:20200211T174738Z
UID:78070-1630607400-1630607400@rsvpa.witf.org
SUMMARY:Lower Paxton Township Historical Commission
DESCRIPTION:The History of Roads in Lower Paxton Township \nAt the march 5\,2020 meeting  Historical commission member Bob Thomas will provide a  presentation on the history of the roads in the township and how they developed from dirt trails older than the country to the transportation network we have today.  Over the past 250 years our road network has evolved from one designed for  horse drawn wagons to high speed interstate highways.  Population growth and commercial development forced our road network  to adapt through expansion\, rerouting or the creation of completely new road systems.  Along the way we “lost” some roads\, moved some roads\, moved some buildings and lost some farms.  Yet small pieces of our road history remain in plain sight marking the original path or named for a person or place from our local history.  Please join us for this unique presentation.  \n
URL:https://rsvpa.witf.org/event/lower-paxton-township-historical-commission-8/2021-09-02/
LOCATION:Lower Paxton Municipal Center\, 925 Prince St\, Lower Paxton Township\, PA\, 17112\, United States
CATEGORIES:Lectures & Seminars
ATTACH;FMTTYPE=image/jpeg:https://rsvpa.witf.org/wp-content/uploads/2020/02/lpt-roads.jpg
ORGANIZER;CN="Lower%20Paxton%20Historical%20Commission":MAILTO:lpthistorical@lowerpaxton-pa.gov
END:VEVENT
END:VCALENDAR