BEGIN:VCALENDAR
VERSION:2.0
PRODID:-//RSVPA - ECPv4.6.23//NONSGML v1.0//EN
CALSCALE:GREGORIAN
METHOD:PUBLISH
X-WR-CALNAME:RSVPA
X-ORIGINAL-URL:https://rsvpa.witf.org
X-WR-CALDESC:Events for RSVPA
BEGIN:VEVENT
DTSTART;TZID=UTC-5:20210423T190000
DTEND;TZID=UTC-5:20210423T230000
DTSTAMP:20210605T191307
CREATED:20190121T192015Z
LAST-MODIFIED:20190121T192015Z
UID:76210-1619204400-1619218800@rsvpa.witf.org
SUMMARY:Improv At The HIT
DESCRIPTION:Come enjoy great shows at the Harrisburg Improv Theatre from 7PM – 11PM. Tickets are $6 for an hour of shows and $12 to stay the whole night. B.Y.O.B. and enjoy all the laughs at Harrisburg’s home for long form improv. \n
URL:https://rsvpa.witf.org/event/improv-at-the-hit/2021-04-23/
LOCATION:Harrisburg Improv Theatre\, 1633 3rd St.\, Harrisburg\, 17102
CATEGORIES:Arts & Exhibits
ATTACH;FMTTYPE=image/jpeg:https://rsvpa.witf.org/wp-content/uploads/2019/01/IK0A0024A-1.jpg
ORGANIZER;CN="Harrisburg%20Improv%20Theatre":MAILTO:socialmedia@hbgimprov.com
END:VEVENT
END:VCALENDAR