BEGIN:VCALENDAR
VERSION:2.0
PRODID:-//RSVPA - ECPv4.6.23//NONSGML v1.0//EN
CALSCALE:GREGORIAN
METHOD:PUBLISH
X-WR-CALNAME:RSVPA
X-ORIGINAL-URL:https://rsvpa.witf.org
X-WR-CALDESC:Events for RSVPA
BEGIN:VEVENT
DTSTART;TZID=UTC-5:20210307T170000
DTEND;TZID=UTC-5:20210307T190000
DTSTAMP:20210706T063704
CREATED:20180904T151630Z
LAST-MODIFIED:20180904T151630Z
UID:75121-1615136400-1615143600@rsvpa.witf.org
SUMMARY:Harrisburg Folk Dance
DESCRIPTION:International Folk Dance\, or World Dance\, brings together traditional ethnic dances\, as well as choreographed dances\, from various regions and nationalities such as Bulgaria\, Romania\, Serbia\, Croatia\, Hungary\, Turkey\, Israel\, Albania\, Greece\, Macedonia\, Russia\, Ukraine\, Japan\, China\, Mongolia\, and many more! \n​We have dances catering to all skill levels\, with a wide variety of music of varying tempos and time signatures. Most dances are in an open circle with linked hands\, where the person on the right is leading the dance and knows the steps to that particular dance. Follow the leader’s motions\, and you will have no trouble dancing along in no time! \n
URL:https://rsvpa.witf.org/event/harrisburg-folk-dance/2021-03-07/
LOCATION:The Movement Center\, 2134 N 2nd St\, Harrisburg\, PA\, 17110\, United States
CATEGORIES:Arts & Exhibits,Kids & Family Fun
ATTACH;FMTTYPE=image/png:https://rsvpa.witf.org/wp-content/uploads/2018/09/color_logo_with_background.png
ORGANIZER;CN="Harrisburg%20Folk%20Dance":MAILTO:hbgfolkdance@gmail.com
END:VEVENT
END:VCALENDAR