BEGIN:VCALENDAR
VERSION:2.0
PRODID:-//RSVPA - ECPv4.6.23//NONSGML v1.0//EN
CALSCALE:GREGORIAN
METHOD:PUBLISH
X-WR-CALNAME:RSVPA
X-ORIGINAL-URL:https://rsvpa.witf.org
X-WR-CALDESC:Events for RSVPA
BEGIN:VEVENT
DTSTART;TZID=UTC-5:20210404T110000
DTEND;TZID=UTC-5:20210404T123000
DTSTAMP:20210519T094546
CREATED:20210318T165846Z
LAST-MODIFIED:20210318T165846Z
UID:82606-1617534000-1617539400@rsvpa.witf.org
SUMMARY:Easter at Christian Life Assembly | “Everlasting”
DESCRIPTION:Whether in person or online\, you’re invited to celebrate Easter at Christian Life Assembly. Join CLA for “Everlasting\,” a two-act Easter illustrated sermon. Through music\, drama and Biblical teaching\, you will encounter Jesus\, our source of hope and strength. (Act 1: Palm Sunday\, March 28 at 8:30 & 11:00 AM; Act 2: Easter Sunday\, April 4 at 8:30 & 11:00 AM.) \nYou will get a glimpse into the life and times of Jesus as seen through the eyes of ordinary people. With beautiful music\, stage sets\, costumes and live animals\, you will experience what it may have been like to live\, work or raise a family in the days that Jesus walked the earth. This event is for the whole family – all ages are welcome! \n
URL:https://rsvpa.witf.org/event/easter-at-christian-life-assembly-everlasting-4/
LOCATION:Christian Life Assembly (CLA)\, 2645 Lisburn Road\, Camp Hill\, PA\, 17011\, United States
GEO:40.2093274;-76.9307549
X-APPLE-STRUCTURED-LOCATION;VALUE=URI;X-ADDRESS=Christian Life Assembly (CLA) 2645 Lisburn Road Camp Hill PA 17011 United States;X-APPLE-RADIUS=500;X-TITLE=2645 Lisburn Road:geo:-76.9307549,40.2093274
CATEGORIES:Concerts & Performances
ATTACH;FMTTYPE=image/jpeg:https://rsvpa.witf.org/wp-content/uploads/2021/03/Easter-2021-Graphic-2.jpg
ORGANIZER;CN="Christian%20Life%20Assembly":MAILTO:erin.arva@clacamphill.com
END:VEVENT
END:VCALENDAR