BEGIN:VCALENDAR
VERSION:2.0
PRODID:-//RSVPA - ECPv4.6.23//NONSGML v1.0//EN
CALSCALE:GREGORIAN
METHOD:PUBLISH
X-WR-CALNAME:RSVPA
X-ORIGINAL-URL:https://rsvpa.witf.org
X-WR-CALDESC:Events for RSVPA
BEGIN:VEVENT
DTSTART;TZID=UTC-5:20210902T180000
DTEND;TZID=UTC-5:20210902T200000
DTSTAMP:20211020T025511
CREATED:20210823T123446Z
LAST-MODIFIED:20210823T123446Z
UID:87540-1630605600-1630612800@rsvpa.witf.org
SUMMARY:Earn Your Leisure x Dope Shows Live Podcast: Meet The Founders
DESCRIPTION:Dope Shows co-founders\, Stephen Piner and Jamir Shaw will participate in the live broadcasting of the popular business platform\, Earn Your Leisure Podcast: Meet The Founders. With over 25 million views on Youtube\, this “college business class mixed with pop culture\,” will take deep dive into the minds of the Dope Shows self-made entrepreneurs. \n
URL:https://rsvpa.witf.org/event/earn-your-leisure-x-dope-shows-live-podcast-meet-the-founders/
LOCATION:The Theatre of Living Arts\, 334 South St\, Philadelphia\, PA\, 19147
CATEGORIES:Concerts & Performances
ATTACH;FMTTYPE=image/jpeg:https://rsvpa.witf.org/wp-content/uploads/2021/08/IMG_2907.jpg
ORGANIZER;CN="Dope%20Show":MAILTO:dominique@phillyprgirl.com
END:VEVENT
END:VCALENDAR