BEGIN:VCALENDAR
VERSION:2.0
PRODID:-//RSVPA - ECPv4.6.23//NONSGML v1.0//EN
CALSCALE:GREGORIAN
METHOD:PUBLISH
X-WR-CALNAME:RSVPA
X-ORIGINAL-URL:https://rsvpa.witf.org
X-WR-CALDESC:Events for RSVPA
BEGIN:VEVENT
DTSTART;TZID=UTC-5:20210630T120000
DTEND;TZID=UTC-5:20210904T130000
DTSTAMP:20211010T020944
CREATED:20210525T133448Z
LAST-MODIFIED:20210913T150302Z
UID:84742-1625054400-1630760400@rsvpa.witf.org
SUMMARY:Curbside Lunches to Go
DESCRIPTION:Children\, ages 18 and under\, can receive a free lunch to go at the Northern Dauphin Library. Snacks will also be available at all Library locations on Friday and weekends. For more information\, visit dcls.org/src or call 717-523-0340. \n
URL:https://rsvpa.witf.org/event/curbside-lunches-to-go-23/2021-06-30/
LOCATION:Northern Dauphin Library\, 683 Main St\, Lykens\, PA\, United States
GEO:40.5670095;-76.6977186
X-APPLE-STRUCTURED-LOCATION;VALUE=URI;X-ADDRESS=Northern Dauphin Library 683 Main St Lykens PA United States;X-APPLE-RADIUS=500;X-TITLE=683 Main St:geo:-76.6977186,40.5670095
CATEGORIES:Kids & Family Fun
ORGANIZER;CN="Dauphin%20County%20Library%20System":MAILTO:clauver@dcls.org
END:VEVENT
END:VCALENDAR