BEGIN:VCALENDAR
VERSION:2.0
PRODID:-//RSVPA - ECPv4.6.23//NONSGML v1.0//EN
CALSCALE:GREGORIAN
METHOD:PUBLISH
X-WR-CALNAME:RSVPA
X-ORIGINAL-URL:https://rsvpa.witf.org
X-WR-CALDESC:Events for RSVPA
BEGIN:VEVENT
DTSTART;TZID=UTC-5:20210307T140000
DTEND;TZID=UTC-5:20210307T153000
DTSTAMP:20210706T063612
CREATED:20210125T131250Z
LAST-MODIFIED:20210125T131250Z
UID:80928-1615125600-1615131000@rsvpa.witf.org
SUMMARY:Art of Truth: Creative Non-Fiction Writing Class
DESCRIPTION:Join Laura English in a virtual class to explore the exciting genre of creative nonfiction. In this class you can chose to write memoir\, essay\, biography\, epistle\, lyric essay\, meditation or a combination of several forms. You’ll have the opportunity to share your work in a supportive\, encouraging environment. Here you’ll find motivation and community as you write about real-life experiences. Discovery and camaraderie await you! Register on Eventbrite.com. More event details on the library’s Events Calendar at www.hersheylibrary.org \n
URL:https://rsvpa.witf.org/event/art-of-truth-creative-non-fiction-writing-class/2021-03-07/
LOCATION:Hershey Public Library\, 701 Cocoa Avenue\, Hershey\, PA\, 17033\, United States
GEO:40.2764969;-76.6468452
X-APPLE-STRUCTURED-LOCATION;VALUE=URI;X-ADDRESS=Hershey Public Library 701 Cocoa Avenue Hershey PA 17033 United States;X-APPLE-RADIUS=500;X-TITLE=701 Cocoa Avenue:geo:-76.6468452,40.2764969
ATTACH;FMTTYPE=image/jpeg:https://rsvpa.witf.org/wp-content/uploads/2021/01/art-of-truth-creative-nonfiction.jpg
END:VEVENT
END:VCALENDAR