BEGIN:VCALENDAR
VERSION:2.0
PRODID:-//RSVPA - ECPv4.6.23//NONSGML v1.0//EN
CALSCALE:GREGORIAN
METHOD:PUBLISH
X-WR-CALNAME:RSVPA
X-ORIGINAL-URL:https://rsvpa.witf.org
X-WR-CALDESC:Events for RSVPA
BEGIN:VEVENT
DTSTART;TZID=UTC-5:20210306T100000
DTEND;TZID=UTC-5:20210306T150000
DTSTAMP:20210801T191719
CREATED:20210212T122739Z
LAST-MODIFIED:20210212T122739Z
UID:81663-1615024800-1615042800@rsvpa.witf.org
SUMMARY:Art Exhibit: I REaD It Somewhere
DESCRIPTION:An expressive exhibit of color and content presented by our member artists. \nI REaD It Somewhere\nA burst of color and expression fills the gallery\nFebruary 5 – March 6\, 2021\nExtended hours for Carlisle’s Ice Art Fest.  Fri.\, Feb. 5 10 – 8.  Saturday\, Feb. 6\, 10 – 5. \nCelebrate with us!  Our 17th color-themed member exhibit promises new works and a brilliant\, eye-popping experience! Who doesn’t love all shades of red in February? What stories will you discover? \nNo formal reception. Masks required. We will happily accommodate appointments for compromised individuals outside of public gallery hours.  Contact CALC to schedule.  \n
URL:https://rsvpa.witf.org/event/art-exhibit-i-read-it-somewhere/2021-03-06/
LOCATION:Carlisle Arts Learning Center\, 38 W Pomfret Street\, Carlisle\, PA\, 17013\, United States
GEO:40.199632;-77.190527
X-APPLE-STRUCTURED-LOCATION;VALUE=URI;X-ADDRESS=Carlisle Arts Learning Center 38 W Pomfret Street Carlisle PA 17013 United States;X-APPLE-RADIUS=500;X-TITLE=38 W Pomfret Street:geo:-77.190527,40.199632
CATEGORIES:Arts & Exhibits
ATTACH;FMTTYPE=image/jpeg:https://rsvpa.witf.org/wp-content/uploads/2021/01/IREaDit.jpg
ORGANIZER;CN="Carlisle%20Arts%20Learning%20Center":MAILTO:info@carlislearts.org
END:VEVENT
END:VCALENDAR